Workbook

Sheet Area
A1: by Richard "Longetalos" Di Ioia
B3: Math distance | C3: cm on tool | D3: Darlene (km) | E3: miles | F3: Ratio (km/cm) | G3: Factor from cm2 to km2
B4: Greyhawk to Hardby | C4: 2.93 | D4: 245 | E4: =D4/1.6 -> 153.125 | F4: =D4/C4 -> 83.617747 | I4: Total area of the Flanaess | K4: =SUM(D11:D72)+SUM(I11:I40)+SUM(N11:N18)+SUM(S11:S45)+SUM(X11:X15)+SUM(AC11:AC13) -> 22816957 | L4: km2
B5: Chendl to Willip | C5: 7.1 | D5: 570 | E5: =D5/1.6 -> 356.25 | F5: =D5/C5 -> 80.28169 | K5: =K4*0.386102 -> 8809672.8 | L5: sq. miles
B6: Gradsul to Highport | C6: 9.68 | D6: 798 | E6: =D6/1.6 -> 498.75 | F6: =D6/C6 -> 82.438017
B7: Average ratio | F7: =AVERAGE(F4:F6) -> 82.112485 | G7: =F7*F7 -> 6742.4601
X8: =X11+X13+X14 -> 902613.14 | Y8: =Y11+Y13+Y14 -> 348500.74
D9: =SUM(D11:D72) -> 11667220 | E9: =SUM(E11:E72) -> 4504737.2 | I9: =SUM(I11:I40) -> 2683971.1 | J9: =SUM(J11:J40) -> 1036286.6 | N9: =SUM(N11:N18) -> 547083.22 | O9: =SUM(O11:O18) -> 211229.92 | S9: =SUM(S11:S45) -> 4359202.8 | T9: =SUM(T11:T45) -> 1683096.9 | X9: =SUM(X11:X15) -> 3212917.1 | Y9: =SUM(Y11:Y15) -> 1240513.7 | AC9: =SUM(AC11:AC13) -> 346562.45 | AD9: =SUM(AD11:AD13) -> 133808.46
B10: Countries | C10: Size (CM2) | D10: Area (km2) | E10: Area (sq.miles) | G10: Woodlands | H10: Size (CM2) | I10: Area (km2) | J10: Area (sq.miles) | L10: Swamps | M10: Size (CM2) | N10: Area (km2) | O10: Area (sq.miles) | Q10: Mountains and hills | R10: Size (CM2) | S10: Area (km2) | T10: Area (sq.miles) | V10: Wastelands | W10: Size (CM2) | X10: Area (km2) | Y10: Area (sq.miles) | AA10: Lakes | AB10: Size (CM2) | AC10: Area (km2) | AD10: Area (sq.miles)
B11: Ahlissa (less Almor, Idee, Medegia) | C11: 123.88 | D11: =C11*$G$7 -> 835255.96 | E11: =D11*0.386102 -> 322494 | G11: Adri forest | H11: 26.06 | I11: =H11*$G$7 -> 175708.51 | J11: =I11*0.386102 -> 67841.408 | L11: Cold marshes | M11: 34.84 | N11: =M11*$G$7 -> 234907.31 | O11: =N11*0.386102 -> 90698.183 | Q11: Abbor-alz | R11: 2.98 | S11: =R11*$G$7 -> 20092.531 | T11: =S11*0.386102 -> 7757.7665 | V11: Barren wastes | W11: 37.79 | X11: =W11*$G$7 -> 254797.57 | Y11: =X11*0.386102 -> 98377.851 | AA11: Lake Quag | AB11: 12.43 | AC11: =AB11*$G$7 -> 83808.78 | AD11: =AC11*0.386102 -> 32358.737
B12: Almor | C12: 24.22 | D12: =C12*$G$7 -> 163302.38 | E12: =D12*0.386102 -> 63051.377 | G12: Amedio jungle | H12: 30.74 | I12: =H12*$G$7 -> 207263.22 | J12: =I12*0.386102 -> 80024.746 | L12: Gnatmarsh | M12: 6.06 | N12: =M12*$G$7 -> 40859.308 | O12: =N12*0.386102 -> 15775.861 | Q12: Barrier peaks | R12: 39.88 | S12: =R12*$G$7 -> 268889.31 | T12: =S12*0.386102 -> 103818.7 | V12: Dry Steppes | W12: 165.52 | X12: =W12*$G$7 -> 1116012 | Y12: =X12*0.386102 -> 430894.47 | AA12: Nyr Dyv | AB12: 26.8 | AC12: =AB12*$G$7 -> 180697.93 | AD12: =AC12*0.386102 -> 69767.833
B13: Bandit kingdoms | C13: =65.59-5.57-1.97 -> 58.05 | D13: =C13*$G$7 -> 391399.81 | E13: =D13*0.386102 -> 151120.25 | G13: Axewood | H13: 1.59 | I13: =H13*$G$7 -> 10720.512 | J13: =I13*0.386102 -> 4139.211 | L13: Hool marshes | M13: 10.81 | N13: =M13*$G$7 -> 72885.994 | O13: =N13*0.386102 -> 28141.428 | Q13: Belmu hills | R13: 4.03 | S13: =R13*$G$7 -> 27172.114 | T13: =S13*0.386102 -> 10491.208 | V13: Land of Black ice | W13: 94.11 | X13: =W13*$G$7 -> 634532.92 | Y13: =X13*0.386102 -> 244994.43 | AA13: Whyestil lake | AB13: 12.17 | AC13: =AB13*$G$7 -> 82055.74 | AD13: =AC13*0.386102 -> 31681.885
B14: Bissel | C14: 14.07 | D14: =C14*$G$7 -> 94866.414 | E14: =D14*0.386102 -> 36628.112 | G14: Bramblewood forest | H14: 12.41 | I14: =H14*$G$7 -> 83673.93 | J14: =I14*0.386102 -> 32306.672 | L14: Lone heath | M14: 4.2 | N14: =M14*$G$7 -> 28318.333 | O14: =N14*0.386102 -> 10933.765 | Q14: Bluff hills | R14: 4.28 | S14: =R14*$G$7 -> 28857.729 | T14: =S14*0.386102 -> 11142.027 | V14: Rift canyon | W14: 1.97 | X14: =W14*$G$7 -> 13282.646 | Y14: =X14*0.386102 -> 5128.4564
B15: Blackmoor | C15: 24.51 | D15: =C15*$G$7 -> 165257.7 | E15: =D15*0.386102 -> 63806.328 | G15: Burneal forest | H15: 47.09 | I15: =H15*$G$7 -> 317502.45 | J15: =I15*0.386102 -> 122588.33 | L15: Mistmarsh | M15: 3.01 | N15: =M15*$G$7 -> 20294.805 | O15: =N15*0.386102 -> 7835.8648 | Q15: Cairn hills | R15: 6.06 | S15: =R15*$G$7 -> 40859.308 | T15: =S15*0.386102 -> 15775.861 | V15: Sea of Dust | W15: 177.13 | X15: =W15*$G$7 -> 1194292 | Y15: =X15*0.386102 -> 461118.52
B16: Bone march | C16: 20.69 | D16: =C16*$G$7 -> 139501.5 | E16: =D16*0.386102 -> 53861.808 | G16: Celadon forest | H16: 17.55 | I16: =H16*$G$7 -> 118330.18 | J16: =I16*0.386102 -> 45687.517 | L16: Rushmoor | M16: 5.17 | N16: =M16*$G$7 -> 34858.519 | O16: =N16*0.386102 -> 13458.944 | Q16: Clatspur range | R16: 5.76 | S16: =R16*$G$7 -> 38836.57 | T16: =S16*0.386102 -> 14994.878
B17: Bright desert | C17: 30.83 | D17: =C17*$G$7 -> 207870.05 | E17: =D17*0.386102 -> 80259.041 | G17: Dim Forest | H17: 12.43 | I17: =H17*$G$7 -> 83808.78 | J17: =I17*0.386102 -> 32358.737 | L17: Troll fens | M17: 5.07 | N17: =M17*$G$7 -> 34184.273 | O17: =N17*0.386102 -> 13198.616 | Q17: Corusk mountains | R17: 87.38 | S17: =R17*$G$7 -> 589156.17 | T17: =S17*0.386102 -> 227474.37
B18: Celene | C18: 8.77 | D18: =C18*$G$7 -> 59131.375 | E18: =D18*0.386102 -> 22830.742 | G18: Dreadwood | H18: 8.94 | I18: =H18*$G$7 -> 60277.594 | J18: =I18*0.386102 -> 23273.299 | L18: Vast swamp | M18: 11.98 | N18: =M18*$G$7 -> 80774.673 | O18: =N18*0.386102 -> 31187.263 | Q18: Crystalmist mountains | R18: 65.01 | S18: =R18*$G$7 -> 438327.33 | T18: =S18*0.386102 -> 169239.06
B19: Dullstrand, lands of | C19: 3.11 | D19: =C19*$G$7 -> 20969.051 | E19: =D19*0.386102 -> 8096.1925 | G19: Fellreev forest | H19: 32.58 | I19: =H19*$G$7 -> 219669.35 | J19: =I19*0.386102 -> 84814.776 | Q19: Flinty hills | R19: 12.46 | S19: =R19*$G$7 -> 84011.053 | T19: =S19*0.386102 -> 32436.836
B20: Dyvers, lands of | C20: 1.88 | D20: =C20*$G$7 -> 12675.825 | E20: =D20*0.386102 -> 4894.1614 | G20: Forlorn forest | H20: 10.77 | I20: =H20*$G$7 -> 72616.296 | J20: =I20*0.386102 -> 28037.297 | Q20: Glorioles | R20: 5.13 | S20: =R20*$G$7 -> 34588.821 | T20: =S20*0.386102 -> 13354.813
B21: Ekbir | C21: 24.03 | D21: =C21*$G$7 -> 162021.32 | E21: =D21*0.386102 -> 62556.755 | G21: Gambodge forest | H21: 14.99 | I21: =H21*$G$7 -> 101069.48 | J21: =I21*0.386102 -> 39023.127 | Q21: Good hills | R21: 8.9 | S21: =R21*$G$7 -> 60007.895 | T21: =S21*0.386102 -> 23169.168
B22: Frost barbarians | C22: 25.98 | D22: =C22*$G$7 -> 175169.11 | E22: =D22*0.386102 -> 67633.145 | G22: Gnarley forest | H22: 7.94 | I22: =H22*$G$7 -> 53535.134 | J22: =I22*0.386102 -> 20670.022 | Q22: Griff mountains | R22: 34.92 | S22: =R22*$G$7 -> 235446.71 | T22: =S22*0.386102 -> 90906.445
B23: Furyondy | C23: 78.1 | D23: =C23*$G$7 -> 526586.14 | E23: =D23*0.386102 -> 203315.96 | G23: Grandwood forest | H23: 15.44 | I23: =H23*$G$7 -> 104103.58 | J23: =I23*0.386102 -> 40194.602 | Q23: Gull cliffs | R23: 4.92 | S23: =R23*$G$7 -> 33172.904 | T23: =S23*0.386102 -> 12808.125
B24: Geoff | C24: 12.16 | D24: =C24*$G$7 -> 81988.315 | E24: =D24*0.386102 -> 31655.853 | G24: Hornwood | H24: 6.56 | I24: =H24*$G$7 -> 44230.539 | J24: =I24*0.386102 -> 17077.499 | Q24: Hellfurnaces | R24: 70.79 | S24: =R24*$G$7 -> 477298.75 | T24: =S24*0.386102 -> 184286
B25: Gran March | C25: 16.43 | D25: =C25*$G$7 -> 110778.62 | E25: =D25*0.386102 -> 42771.847 | G25: Hraak forest | H25: 9.27 | I25: =H25*$G$7 -> 62502.606 | J25: =I25*0.386102 -> 24132.381 | Q25: Hestmark highlands | R25: 10.69 | S25: =R25*$G$7 -> 72076.899 | T25: =S25*0.386102 -> 27829.035
B26: Greyhawk, lands of | C26: 5.54 | D26: =C26*$G$7 -> 37353.229 | E26: =D26*0.386102 -> 14422.157 | G26: Loftwood forest | H26: 2.99 | I26: =H26*$G$7 -> 20159.956 | J26: =I26*0.386102 -> 7783.7993 | Q26: Hollow highlands | R26: 2.93 | S26: =R26*$G$7 -> 19755.408 | T26: =S26*0.386102 -> 7627.6026
B27: Hardby, lands of | C27: 1.54 | D27: =C27*$G$7 -> 10383.389 | E27: =D27*0.386102 -> 4009.0471 | G27: Menowood | H27: 5.83 | I27: =H27*$G$7 -> 39308.543 | J27: =I27*0.386102 -> 15177.107 | Q27: Howling hills | R27: 7.45 | S27: =R27*$G$7 -> 50231.328 | T27: =S27*0.386102 -> 19394.416
B28: Horned Society | C28: 24.46 | D28: =C28*$G$7 -> 164920.58 | E28: =D28*0.386102 -> 63676.164 | G28: Nutherwood | H28: 4.05 | I28: =H28*$G$7 -> 27306.964 | J28: =I28*0.386102 -> 10543.273 | Q28: Iron hills | R28: 9.91 | S28: =R28*$G$7 -> 66817.78 | T28: =S28*0.386102 -> 25798.479
B29: Highfolk vale | C29: 9.92 | D29: =C29*$G$7 -> 66885.205 | E29: =D29*0.386102 -> 25824.511 | G29: Oytwood | H29: 3.95 | I29: =H29*$G$7 -> 26632.718 | J29: =I29*0.386102 -> 10282.946 | Q29: Jotens | R29: 13.02 | S29: =R29*$G$7 -> 87786.831 | T29: =S29*0.386102 -> 33894.671
B30: Ice barbarians | C30: =43.8-8.42 -> 35.38 | D30: =C30*$G$7 -> 238548.24 | E30: =D30*0.386102 -> 92103.953 | G30: Phostwood | H30: 15.26 | I30: =H30*$G$7 -> 102889.94 | J30: =I30*0.386102 -> 39726.012 | Q30: Kron hills | R30: 5.76 | S30: =R30*$G$7 -> 38836.57 | T30: =S30*0.386102 -> 14994.878
B31: Idee | C31: 6.3 | D31: =C31*$G$7 -> 42477.499 | E31: =D31*0.386102 -> 16400.647 | G31: Rieuwood | H31: 13.04 | I31: =H31*$G$7 -> 87921.68 | J31: =I31*0.386102 -> 33946.737 | Q31: Little hills | R31: 7.92 | S31: =R31*$G$7 -> 53400.284 | T31: =S31*0.386102 -> 20617.957
B32: Irongate | C32: 0.84 | D32: =C32*$G$7 -> 5663.6665 | E32: =D32*0.386102 -> 2186.753 | G32: Sable wood | H32: 8.42 | I32: =H32*$G$7 -> 56771.514 | J32: =I32*0.386102 -> 21919.595 | Q32: Lorridges | R32: 5.82 | S32: =R32*$G$7 -> 39241.118 | T32: =S32*0.386102 -> 15151.074
B33: Iuz, Homeland of | C33: 43.24 | D33: =C33*$G$7 -> 291543.98 | E33: =D33*0.386102 -> 112565.71 | G33: Silver wood | H33: 3.08 | I33: =H33*$G$7 -> 20766.777 | J33: =I33*0.386102 -> 8018.0942 | Q33: Lortmils | R33: 25.79 | S33: =R33*$G$7 -> 173888.05 | T33: =S33*0.386102 -> 67138.523
B34: Keoland | C34: 49.91 | D34: =C34*$G$7 -> 336516.19 | E34: =D34*0.386102 -> 129929.57 | G34: Spikey forest | H34: 3.57 | I34: =H34*$G$7 -> 24070.583 | J34: =I34*0.386102 -> 9293.7001 | Q34: Mounds of Dawn | R34: 4.37 | S34: =R34*$G$7 -> 29464.551 | T34: =S34*0.386102 -> 11376.322
B35: Ket | C35: 15.74 | D35: =C35*$G$7 -> 106126.32 | E35: =D35*0.386102 -> 40975.585 | G35: Suss forest | H35: 8.97 | I35: =H35*$G$7 -> 60479.867 | J35: =I35*0.386102 -> 23351.398 | Q35: Rakers | R35: 34.39 | S35: =R35*$G$7 -> 231873.2 | T35: =S35*0.386102 -> 89526.708
B36: Lendore isles | C36: =3.42+3.16 -> 6.58 | D36: =C36*$G$7 -> 44365.388 | E36: =D36*0.386102 -> 17129.565 | G36: Tangles forest | H36: 5.57 | I36: =H36*$G$7 -> 37555.503 | J36: =I36*0.386102 -> 14500.255 | Q36: Sepia uplands | R36: 4.18 | S36: =R36*$G$7 -> 28183.483 | T36: =S36*0.386102 -> 10881.699
B37: Lordship of the isles | C37: =0.57+3.42+3.69+4.42 -> 12.1 | D37: =C37*$G$7 -> 81583.768 | E37: =D37*0.386102 -> 31499.656 | G37: Timberway forest | H37: 8.21 | I37: =H37*$G$7 -> 55355.598 | J37: =I37*0.386102 -> 21372.907 | Q37: Spine ridge | R37: 5.6 | S37: =R37*$G$7 -> 37757.777 | T37: =S37*0.386102 -> 14578.353
B38: North kingdom | C38: 90.61 | D38: =C38*$G$7 -> 610934.31 | E38: =D38*0.386102 -> 235882.96 | G38: Udgru forest | H38: 11.84 | I38: =H38*$G$7 -> 79830.728 | J38: =I38*0.386102 -> 30822.804 | Q38: Stark mounds | R38: 4.91 | S38: =R38*$G$7 -> 33105.479 | T38: =S38*0.386102 -> 12782.092
B39: Nyrond (less Almor) | C39: 95.14 | D39: =C39*$G$7 -> 641477.66 | E39: =D39*0.386102 -> 247675.81 | G39: Welkwood | H39: 5 | I39: =H39*$G$7 -> 33712.301 | J39: =I39*0.386102 -> 13016.387 | Q39: Sulhauts mountains | R39: 40.57 | S39: =R39*$G$7 -> 273541.61 | T39: =S39*0.386102 -> 105614.96
B40: Onnwal | C40: 4.59 | D40: =C40*$G$7 -> 30947.892 | E40: =D40*0.386102 -> 11949.043 | G40: Vesve forest | H40: 43.93 | I40: =H40*$G$7 -> 296196.27 | J40: =I40*0.386102 -> 114361.97 | Q40: The Headlands | R40: 2.42 | S40: =R40*$G$7 -> 16316.754 | T40: =S40*0.386102 -> 6299.9312
B41: Pale | C41: 31.16 | D41: =C41*$G$7 -> 210095.06 | E41: =D41*0.386102 -> 81118.122 | Q41: The Tors | R41: 1.36 | S41: =R41*$G$7 -> 9169.7458 | T41: =S41*0.386102 -> 3540.4572
B42: Paynims | C42: 123.63 | D42: =C42*$G$7 -> 833570.35 | E42: =D42*0.386102 -> 321843.18 | G42: All areas are based off this map. | Q42: Tusman hills | R42: =3.33+14.06 -> 17.39 | S42: =R42*$G$7 -> 117251.38 | T42: =S42*0.386102 -> 45270.993
B43: Perrenland | C43: 17.54 | D43: =C43*$G$7 -> 118262.75 | E43: =D43*0.386102 -> 45661.485 | Q43: Ulsprue | R43: 9.95 | S43: =R43*$G$7 -> 67087.478 | T43: =S43*0.386102 -> 25902.61
B44: Pomarj (less the Wild Coast) | C44: 21.06 | D44: =C44*$G$7 -> 141996.21 | E44: =D44*0.386102 -> 54825.021 | Q44: Yatil mountains | R44: 76.67 | S44: =R44*$G$7 -> 516944.42 | T44: =S44*0.386102 -> 199593.27
B45: Ratik | C45: 6.15 | D45: =C45*$G$7 -> 41466.13 | E45: =D45*0.386102 -> 16010.156 | Q45: Yecha hills | R45: 2.93 | S45: =R45*$G$7 -> 19755.408 | T45: =S45*0.386102 -> 7627.6026
B46: Rel Astra & Solnor compact | C46: 11.07 | D46: =C46*$G$7 -> 74639.034 | E46: =D46*0.386102 -> 28818.28
B47: Rovers of the barren | C47: 28.28 | D47: =C47*$G$7 -> 190676.77 | E47: =D47*0.386102 -> 73620.683
B48: Sea barons | C48: =1.9+0.8+1.56+0.4 -> 4.66 | D48: =C48*$G$7 -> 31419.864 | E48: =D48*0.386102 -> 12131.272
B49: Sea princes | C49: 20.13 | D49: =C49*$G$7 -> 135725.72 | E49: =D49*0.386102 -> 52403.973
B50: See of Medegia | C50: 19.96 | D50: =C50*$G$7 -> 134579.5 | E50: =D50*0.386102 -> 51961.416
B51: Shield lands | C51: 20.73 | D51: =C51*$G$7 -> 139771.2 | E51: =D51*0.386102 -> 53965.939
B52: Snow barbarians | C52: 31.34 | D52: =C52*$G$7 -> 211308.7 | E52: =D52*0.386102 -> 81586.712
B53: Sterich | C53: 17.52 | D53: =C53*$G$7 -> 118127.9 | E53: =D53*0.386102 -> 45609.419
B54: Stonehold | C54: 39.92 | D54: =C54*$G$7 -> 269159.01 | E54: =D54*0.386102 -> 103922.83
B55: Sunndi | C55: 21.12 | D55: =C55*$G$7 -> 142400.76 | E55: =D55*0.386102 -> 54981.218
B56: Tenh | C56: 17.92 | D56: =C56*$G$7 -> 120824.89 | E56: =D56*0.386102 -> 46650.73
B57: Tiger nomads | C57: 49.85 | D57: =C57*$G$7 -> 336111.64 | E57: =D57*0.386102 -> 129773.38
B58: Tilvanot peninsula | C58: 42.62 | D58: =C58*$G$7 -> 287363.65 | E58: =D58*0.386102 -> 110951.68
B59: Tusmit | C59: 20.53 | D59: =C59*$G$7 -> 138422.71 | E59: =D59*0.386102 -> 53445.284
B60: Ulek county | C60: 10.05 | D60: =C60*$G$7 -> 67761.724 | E60: =D60*0.386102 -> 26162.937
... B72: Zeif | C72: 77.48 | D72: =C72*$G$7 -> 522405.81 | E72: =D72*0.386102 -> 201701.93

Sheet Density
B2: Total | C2: =SUM(C6:C67) -> 11667220 | D2: =SUM(D6:D67) -> 28441630 | E2: =D2/C2 -> 2.4377383 | F2: =D2/(C2*0.386102) -> 6.3137158
B5: Countries | C5: Area (km2) | D5: LGG population | E5: Density (pop / km2) | F5: Density (pop / square mile)
B6: Ahlissa (less Almor, Idee, Medegia) | C6: =Area!D11 -> 835255.96 | D6: =3836100-D7-D45 -> 3686100 | E6: =D6/C6 -> 4.4131382 | F6: =D6/(C6*0.386102) -> 11.42998
B7: Almor | C7: =Area!D12 -> 163302.38 | D7: 100000 | E7: =D7/C7 -> 0.61236093 | F7: =D7/(C7*0.386102) -> 1.5860082
B8: Bandit kingdoms | C8: =Area!D13 -> 391399.81 | D8: 475200 | E8: =D8/C8 -> 1.2141038 | F8: =D8/(C8*0.386102) -> 3.1445157
B9: Bissel | C9: =Area!D14 -> 94866.414 | D9: 123880 | E9: =D9/C9 -> 1.3058362 | F9: =D9/(C9*0.386102) -> 3.3821017
B10: Blackmoor | C10: =Area!D15 -> 165257.7 | D10: 110000 | E10: =D10/C10 -> 0.66562709 | F10: =D10/(C10*0.386102) -> 1.7239669
B11: Bone march | C11: =Area!D16 -> 139501.5 | D11: 310000 | E11: =D11/C11 -> 2.2221983 | F11: =D11/(C11*0.386102) -> 5.7554696
B12: Bright desert | C12: =Area!D17 -> 207870.05 | D12: 26500 | E12: =D12/C12 -> 0.12748349 | F12: =D12/(C12*0.386102) -> 0.33018087
B13: Celene | C13: =Area!D18 -> 59131.375 | D13: 140000 | E13: =D13/C13 -> 2.3676094 | F13: =D13/(C13*0.386102) -> 6.1320827
B14: Dullstrand, lands of | C14: =Area!D19 -> 20969.051 | D14: 20000 | E14: =D14/C14 -> 0.9537866 | F14: =D14/(C14*0.386102) -> 2.470297
B15: Dyvers, lands of | C15: =Area!D20 -> 12675.825 | D15: 128000 | E15: =D15/C15 -> 10.097962 | F15: =D15/(C15*0.386102) -> 26.153612
B16: Ekbir | C16: =Area!D21 -> 162021.32 | D16: 1960000 | E16: =D16/C16 -> 12.097174 | F16: =D16/(C16*0.386102) -> 31.331549
B17: Frost barbarians | C17: =Area!D22 -> 175169.11 | D17: 144500 | E17: =D17/C17 -> 0.82491711 | F17: =D17/(C17*0.386102) -> 2.1365264
B18: Furyondy | C18: =Area!D23 -> 526586.14 | D18: 1481800 | E18: =D18/C18 -> 2.8139746 | F18: =D18/(C18*0.386102) -> 7.2881637
... B20: Gran March | C20: =Area!D25 -> 110778.62 | D20: 254600 | E20: =D20/C20 -> 2.2982774 | F20: =D20/(C20*0.386102) -> 5.9525136
B21: Greyhawk, lands of | C21: =Area!D26 -> 37353.229 | D21: =160000-20000-40000 -> 100000 | E21: =D21/C21 -> 2.6771447 | F21: =D21/(C21*0.386102) -> 6.9337758
B22: Hardby, lands of | C22: =Area!D27 -> 10383.389 | D22: =20000 -> 20000 | E22: =D22/C22 -> 1.9261535 | F22: =D22/(C22*0.386102) -> 4.9887166
B23: Horned Society | C23: =Area!D28 -> 164920.58 | D23: 250000 | E23: =D23/C23 -> 1.5158812 | F23: =D23/(C23*0.386102) -> 3.9261159
B24: Highfolk vale | C24: =Area!D29 -> 66885.205 | D24: 46000 | E24: =D24/C24 -> 0.68774552 | F24: =D24/(C24*0.386102) -> 1.7812535
B25: Ice barbarians | C25: =Area!D30 -> 238548.24 | D25: 158800 | E25: =D25/C25 -> 0.66569345 | F25: =D25/(C25*0.386102) -> 1.7241388
B26: Idee | C26: =Area!D31 -> 42477.499 | D26: 150000 | E26: =D26/C26 -> 3.5312814 | F26: =D26/(C26*0.386102) -> 9.1459805
B27: Irongate | C27: =Area!D32 -> 5663.6665 | D27: 71000 | E27: =D27/C27 -> 12.536049 | F27: =D27/(C27*0.386102) -> 32.468231
B28: Iuz, Homeland of | C28: =Area!D33 -> 291543.98 | D28: =700000-250000 -> 450000 | E28: =D28/C28 -> 1.5435064 | F28: =D28/(C28*0.386102) -> 3.9976649
B29: Keoland | C29: =Area!D34 -> 336516.19 | D29: 1800000 | E29: =D29/C29 -> 5.3489255 | F29: =D29/(C29*0.386102) -> 13.853659
B30: Ket | C30: =Area!D35 -> 106126.32 | D30: 275000 | E30: =D30/C30 -> 2.5912516 | F30: =D30/(C30*0.386102) -> 6.7113135
B31: Lendore isles | C31: =Area!D36 -> 44365.388 | D31: 41000 | E31: =D31/C31 -> 0.92414384 | F31: =D31/(C31*0.386102) -> 2.3935226
B32: Lordship of the isles | C32: =Area!D37 -> 81583.768 | D32: 266000 | E32: =D32/C32 -> 3.2604525 | F32: =D32/(C32*0.386102) -> 8.4445367
B33: North kingdom | C33: =Area!D38 -> 610934.31 | D33: 2618200 | E33: =D33/C33 -> 4.2855671 | F33: =D33/(C33*0.386102) -> 11.099572
B34: Nyrond (less Almor) | C34: =Area!D39 -> 641477.66 | D34: =2618200-D7 -> 2518200 | E34: =D34/C34 -> 3.9256239 | F34: =D34/(C34*0.386102) -> 10.167323
B35: Onnwal | C35: =Area!D40 -> 30947.892 | D35: 85500 | E35: =D35/C35 -> 2.7627084 | F35: =D35/(C35*0.386102) -> 7.1553847
B36: Pale | C36: =Area!D41 -> 210095.06 | D36: 395000 | E36: =D36/C36 -> 1.8801013 | F36: =D36/(C36*0.386102) -> 4.8694421
B37: Paynims | C37: =Area!D42 -> 833570.35 | D37: 500000 | E37: =D37/C37 -> 0.5998294 | F37: =D37/(C37*0.386102) -> 1.5535516
B38: Perrenland | C38: =Area!D43 -> 118262.75 | D38: 468000 | E38: =D38/C38 -> 3.95729 | F38: =D38/(C38*0.386102) -> 10.249338
B39: Pomarj (less the Wild Coast) | C39: =Area!D44 -> 141996.21 | D39: =476000-120000 -> 356000 | E39: =D39/C39 -> 2.5071092 | F39: =D39/(C39*0.386102) -> 6.4933856
B40: Ratik | C40: =Area!D45 -> 41466.13 | D40: 138500 | E40: =D40/C40 -> 3.3400754 | F40: =D40/(C40*0.386102) -> 8.6507591
B41: Rel Astra & Solnor compact | C41: =Area!D46 -> 74639.034 | D41: 380000 | E41: =D41/C41 -> 5.0911699 | F41: =D41/(C41*0.386102) -> 13.186075
B42: Rovers of the barren | C42: =Area!D47 -> 190676.77 | D42: 35000 | E42: =D42/C42 -> 0.1835567 | F42: =D42/(C42*0.386102) -> 0.47540988
B43: Sea barons | C43: =Area!D48 -> 31419.864 | D43: 154000 | E43: =D43/C43 -> 4.9013579 | F43: =D43/(C43*0.386102) -> 12.694464
B44: Sea princes | C44: =Area!D49 -> 135725.72 | D44: 420000 | E44: =D44/C44 -> 3.0944761 | F44: =D44/(C44*0.386102) -> 8.0146595
B45: See of Medegia | C45: =Area!D50 -> 134579.5 | D45: 50000 | E45: =D45/C45 -> 0.3715276 | F45: =D45/(C45*0.386102) -> 0.96225246
B46: Shield lands | C46: =Area!D51 -> 139771.2 | D46: 27000 | E46: =D46/C46 -> 0.19317284 | F46: =D46/(C46*0.386102) -> 0.50031558
B47: Snow barbarians | C47: =Area!D52 -> 211308.7 | D47: 209000 | E47: =D47/C47 -> 0.98907427 | F47: =D47/(C47*0.386102) -> 2.5616917
B48: Sterich | C48: =Area!D53 -> 118127.9 | D48: 144000 | E48: =D48/C48 -> 1.2190177 | F48: =D48/(C48*0.386102) -> 3.1572426
B49: Stonehold | C49: =Area!D54 -> 269159.01 | D49: 55000 | E49: =D49/C49 -> 0.20434018 | F49: =D49/(C49*0.386102) -> 0.52923885
B50: Sunndi | C50: =Area!D55 -> 142400.76 | D50: 125000 | E50: =D50/C50 -> 0.87780431 | F50: =D50/(C50*0.386102) -> 2.2735037
B51: Tenh | C51: =Area!D56 -> 120824.89 | D51: 195000 | E51: =D51/C51 -> 1.6139059 | F51: =D51/(C51*0.386102) -> 4.1799989
... B63: Verbobonc, lands of | C63: =Area!D68 -> 20294.805 | D63: 177800 | E63: =D63/C63 -> 8.7608627 | F63: =D63/(C63*0.386102) -> 22.690539
B64: Wild coast | C64: =Area!D69 -> 70256.435 | D64: =40000+120000 -> 160000 | E64: =D64/C64 -> 2.2773715 | F64: =D64/(C64*0.386102) -> 5.8983675
B65: Wolf nomads | C65: =Area!D70 -> 407918.84 | D65: 120000 | E65: =D65/C65 -> 0.29417617 | F65: =D65/(C65*0.386102) -> 0.76191309
B66: Yeomanry | C66: =Area!D71 -> 126690.83 | D66: 305900 | E66: =D66/C66 -> 2.4145395 | F66: =D66/(C66*0.386102) -> 6.2536311
B67: Zeif | C67: =Area!D72 -> 522405.81 | D67: 1628300 | E67: =D67/C67 -> 3.1169255 | F67: =D67/(C67*0.386102) -> 8.0728033

Sheet Revised populations
A1: by Richard Di Ioia
A3: For DMs that wish to adjust the LGG populations here is an excel sheet to help you.
A4: This sheet provides two frameworks for finding a population figure of a country:
A5: --- Method #1) Suggest an overall population density of a country based on a few factors and then multiplying that factor by the area (square km) of the country.
A6: --- Method #2) The DM decides the percentage area of the country they want to be "tamed". From there a factor is applied on how many acres an average person needs of food, and the population figure is then calculated.
A8: Enter values in the cells with a Blue value.
C9: Method #1 | G9: Method #2 | H9: Results | K9: Comparison
G10: Acres per person =
G11: 8 | H11: Method #1 | J11: Method #2 | L11: Method #1 | N11: Method #2
A12: Countries | B12: Area (km2) | C12: Stability | D12: Fertility | E12: Environment | F12: Special | G12: Tamed area (%) | H12: Suggested density (pop / km2) | I12: Suggested population | J12: Suggested population | K12: LGG population | L12: Population | M12: % change | N12: Population | O12: % change
A13: Ahlissa (less Almor, Idee, Medegia) | B13: =Area!D11 -> 835255.96 | C13: 3 | D13: 3 | E13: 4 | F13: 1 | G13: 0.15 | H13: =C13*(D13/3)*(E13/3)*F13 -> 4 | I13: =B13*H13 -> 3341023.9 | J13: =G13*B13*250/$G$11 -> 3915262.3 | K13: =Density!D6 -> 3686100 | L13: =I13 -> 3341023.9 | M13: =(L13-K13)/K13 -> -0.093615515 | N13: =J13 -> 3915262.3 | O13: =(N13-K13)/K13 -> 0.062169319
A14: Almor | B14: =Area!D12 -> 163302.38 | C14: 1 | D14: 3 | E14: 3 | F14: 1 | G14: 0.02 | H14: =C14*(D14/3)*(E14/3)*F14 -> 1 | I14: =B14*H14 -> 163302.38 | J14: =G14*B14*250/$G$11 -> 102063.99 | K14: =Density!D7 -> 100000 | L14: =I14 -> 163302.38 | M14: =(L14-K14)/K14 -> 0.63302385 | N14: =J14 -> 102063.99 | O14: =(N14-K14)/K14 -> 0.020639904
A15: Bandit kingdoms | B15: =Area!D13 -> 391399.81 | C15: 2 | D15: 2 | E15: 2 | F15: 1 | G15: 0.03 | H15: =C15*(D15/3)*(E15/3)*F15 -> 0.88888889 | I15: =B15*H15 -> 347910.94 | J15: =G15*B15*250/$G$11 -> 366937.32 | K15: =Density!D8 -> 475200 | L15: =I15 -> 347910.94 | M15: =(L15-K15)/K15 -> -0.26786418 | N15: =J15 -> 366937.32 | O15: =(N15-K15)/K15 -> -0.2278255
A16: Bissel | B16: =Area!D14 -> 94866.414 | C16: 2 | D16: 3 | E16: 3 | F16: 1 | G16: 0.08 | H16: =C16*(D16/3)*(E16/3)*F16 -> 2 | I16: =B16*H16 -> 189732.83 | J16: =G16*B16*250/$G$11 -> 237166.04 | K16: =Density!D9 -> 123880 | L16: =I16 -> 189732.83 | M16: =(L16-K16)/K16 -> 0.53158563 | N16: =J16 -> 237166.04 | O16: =(N16-K16)/K16 -> 0.91448204
A17: Blackmoor | B17: =Area!D15 -> 165257.7 | C17: 2 | D17: 1 | E17: 1 | F17: 1 | G17: 0.01 | H17: =C17*(D17/3)*(E17/3)*F17 -> 0.22222222 | I17: =B17*H17 -> 36723.933 | J17: =G17*B17*250/$G$11 -> 51643.031 | K17: =Density!D10 -> 110000 | L17: =I17 -> 36723.933 | M17: =(L17-K17)/K17 -> -0.66614606 | N17: =J17 -> 51643.031 | O17: =(N17-K17)/K17 -> -0.5305179
A18: Bone march | B18: =Area!D16 -> 139501.5 | C18: 1 | D18: 2 | E18: 3 | F18: 1 | G18: 0.03 | H18: =C18*(D18/3)*(E18/3)*F18 -> 0.66666667 | I18: =B18*H18 -> 93001 | J18: =G18*B18*250/$G$11 -> 130782.66 | K18: =Density!D11 -> 310000 | L18: =I18 -> 93001 | M18: =(L18-K18)/K18 -> -0.69999677 | N18: =J18 -> 130782.66 | O18: =(N18-K18)/K18 -> -0.57812046
A19: Bright desert | B19: =Area!D17 -> 207870.05 | C19: 2 | D19: 0.3 | E19: 1 | F19: 1 | G19: 0.01 | H19: =C19*(D19/3)*(E19/3)*F19 -> 0.066666667 | I19: =B19*H19 -> 13858.003 | J19: =G19*B19*250/$G$11 -> 64959.389 | K19: =Density!D12 -> 26500 | L19: =I19 -> 13858.003 | M19: =(L19-K19)/K19 -> -0.47705649 | N19: =J19 -> 64959.389 | O19: =(N19-K19)/K19 -> 1.4512977
A20: Celene | B20: =Area!D18 -> 59131.375 | C20: 5 | D20: 3 | E20: 4 | F20: 0.5 | G20: 0.08 | H20: =C20*(D20/3)*(E20/3)*F20 -> 3.3333333 | I20: =B20*H20 -> 197104.58 | J20: =G20*B20*250/$G$11 -> 147828.44 | K20: =Density!D13 -> 140000 | L20: =I20 -> 197104.58 | M20: =(L20-K20)/K20 -> 0.40788989 | N20: =J20 -> 147828.44 | O20: =(N20-K20)/K20 -> 0.055917419
A21: Dullstrand, lands of | B21: =Area!D19 -> 20969.051 | C21: 3 | D21: 3 | E21: 3 | F21: 1 | G21: 0.1 | H21: =C21*(D21/3)*(E21/3)*F21 -> 3 | I21: =B21*H21 -> 62907.153 | J21: =G21*B21*250/$G$11 -> 65528.285 | K21: =Density!D14 -> 20000 | L21: =I21 -> 62907.153 | M21: =(L21-K21)/K21 -> 2.1453577 | N21: =J21 -> 65528.285 | O21: =(N21-K21)/K21 -> 2.2764142
A22: Dyvers, lands of | B22: =Area!D20 -> 12675.825 | C22: 4 | D22: 4 | E22: 3 | F22: 2 | G22: 0.3 | H22: =C22*(D22/3)*(E22/3)*F22 -> 10.666667 | I22: =B22*H22 -> 135208.8 | J22: =G22*B22*250/$G$11 -> 118835.86 | K22: =Density!D15 -> 128000 | L22: =I22 -> 135208.8 | M22: =(L22-K22)/K22 -> 0.056318756 | N22: =J22 -> 118835.86 | O22: =(N22-K22)/K22 -> -0.071594843
A23: Ekbir | B23: =Area!D21 -> 162021.32 | C23: 4 | D23: 3 | E23: 3 | F23: 1 | G23: 0.2 | H23: =C23*(D23/3)*(E23/3)*F23 -> 4 | I23: =B23*H23 -> 648085.27 | J23: =G23*B23*250/$G$11 -> 1012633.2 | K23: =Density!D16 -> 1960000 | L23: =I23 -> 648085.27 | M23: =(L23-K23)/K23 -> -0.66934425 | N23: =J23 -> 1012633.2 | O23: =(N23-K23)/K23 -> -0.48335039
A24: Frost barbarians | B24: =Area!D22 -> 175169.11 | C24: 3 | D24: 1 | E24: 2 | F24: 1 | G24: 0.05 | H24: =C24*(D24/3)*(E24/3)*F24 -> 0.66666667 | I24: =B24*H24 -> 116779.41 | J24: =G24*B24*250/$G$11 -> 273701.74 | K24: =Density!D17 -> 144500 | L24: =I24 -> 116779.41 | M24: =(L24-K24)/K24 -> -0.191838 | N24: =J24 -> 273701.74 | O24: =(N24-K24)/K24 -> 0.8941297
... A74: Zeif | B74: =Area!D72 -> 522405.81 | C74: 4 | D74: 2 | E74: 2 | F74: 1 | G74: 0.15 | H74: =C74*(D74/3)*(E74/3)*F74 -> 1.7777778 | I74: =B74*H74 -> 928721.44 | J74: =G74*B74*250/$G$11 -> 2448777.2 | K74: =Density!D67 -> 1628300 | L74: =I74 -> 928721.44 | M74: =(L74-K74)/K74 -> -0.42963739 | N74: =J74 -> 2448777.2 | O74: =(N74-K74)/K74 -> 0.5038858
A76: Stability factor
A77: 5 = Country has been stable for several centuries.
A78: 4 = Country has been stable for a few decades.
A79: 3 = Country has occasional border skirmishes with its neighbors.
A80: 2 = Country is constantly under threat, either internal civil war or by external factors.
A81: 1 = Country is recovering from a being conquered or numerous civil wars.
A83: Fertility factor
A84: 5 = The country is a breadbasket. Excellent soil and two harvests per year.
A85: 4 = The country has good soil and natural hunting grounds.
A86: 3 = The country has average soil and a moderate amunt of hunting grounds.
A87: 2 = The country is difficult to grow food in.
A88: 1 = The country is real hard to farm and the livestock is difficult to feed.
... A95: 1 = The climate is harsh and it is dangerous to live here.
